BEGIN:VCALENDAR
VERSION:2.0
PRODID:-//Plone.org//NONSGML plone.app.event//EN
X-WR-TIMEZONE:Europe/Rome
BEGIN:VEVENT
SUMMARY:Presentazione piano di azione in materia acustica
DTSTART;TZID=Europe/Rome:20240115T170000
DTEND;TZID=Europe/Rome:20240115T183000
DTSTAMP:20260421T193515Z
UID:2f084712a10a485b9ffe52dcbb323ed7@www.comune.parma.it
CATEGORIES:Home page
CREATED:20240111T140619Z
DESCRIPTION:Incontro pubblico sul piano di azione acustico dell'agglomerat
 o di Parma
LAST-MODIFIED:20240116T065227Z
URL:https://www.comune.parma.it/api/it/vivere-parma/eventi/presentazione-p
 iano-di-azione-in-materia-acustica/2024-01-15
END:VEVENT
BEGIN:VTIMEZONE
TZID:Europe/Rome
X-LIC-LOCATION:Europe/Rome
BEGIN:STANDARD
DTSTART:20231029T020000
TZNAME:CET
TZOFFSETFROM:+0200
TZOFFSETTO:+0100
END:STANDARD
END:VTIMEZONE
END:VCALENDAR
