BEGIN:VCALENDAR
VERSION:2.0
PRODID:-//Plone.org//NONSGML plone.app.event//EN
X-WR-TIMEZONE:Europe/Rome
BEGIN:VEVENT
SUMMARY:Presentazione Piano di Potenziamento del Decoro Urbano
DTSTART;TZID=Europe/Rome:20260227T180000
DTEND;TZID=Europe/Rome:20260227T190000
DTSTAMP:20260420T181944Z
UID:c6e1ee4320f64d38bef457a90b18fb5d@www.comune.parma.it
CATEGORIES:Home page
CREATED:20260225T091701Z
DESCRIPTION:Un nuovo programma integrato per qualità urbana\, sostenibili
 tà e gestione efficiente dei rifiuti. L’incontro di presentazione si te
 rrà venerdì 27 febbraio 2026\, alle ore 18:00\, a Il Punto di piazza Gar
 ibaldi.
LAST-MODIFIED:20260225T105115Z
URL:https://www.comune.parma.it/api/it/vivere-parma/eventi/presentazione-p
 iano-di-potenziamento-del-decoro-urbano/2026-02-27
END:VEVENT
BEGIN:VTIMEZONE
TZID:Europe/Rome
X-LIC-LOCATION:Europe/Rome
BEGIN:STANDARD
DTSTART:20251026T020000
TZNAME:CET
TZOFFSETFROM:+0200
TZOFFSETTO:+0100
END:STANDARD
END:VTIMEZONE
END:VCALENDAR
