BEGIN:VCALENDAR
VERSION:2.0
PRODID:-//Plone.org//NONSGML plone.app.event//EN
X-WR-TIMEZONE:Europe/Rome
BEGIN:VEVENT
SUMMARY:Proiezione del film "La Vita Accanto"
DTSTART;TZID=Europe/Rome:20241003T210000
DTEND;TZID=Europe/Rome:20241003T230000
DTSTAMP:20260421T231856Z
UID:8ac2541ee64d4acdab4c0034fc29620e@www.comune.parma.it
CATEGORIES:Home page
CREATED:20240927T110037Z
DESCRIPTION:Con la presenza del regista Marco Tullio Giordana - Modera l'i
 ncontro il giornalista  Filiberto Molossi
LAST-MODIFIED:20240927T110044Z
URL:https://www.comune.parma.it/api/it/vivere-parma/eventi/proiezione-del-
 film-la-vita-accanto/2024-10-03
END:VEVENT
BEGIN:VTIMEZONE
TZID:Europe/Rome
X-LIC-LOCATION:Europe/Rome
BEGIN:DAYLIGHT
DTSTART:20240331T030000
TZNAME:CEST
TZOFFSETFROM:+0100
TZOFFSETTO:+0200
END:DAYLIGHT
END:VTIMEZONE
END:VCALENDAR
