BEGIN:VCALENDAR
VERSION:2.0
PRODID:-//Plone.org//NONSGML plone.app.event//EN
X-WR-TIMEZONE:Europe/Rome
BEGIN:VEVENT
SUMMARY:PROSSIMA – La PA di nuova generazione
DTSTART;TZID=Europe/Rome:20260303T093000
DTEND;TZID=Europe/Rome:20260303T120000
DTSTAMP:20260421T132424Z
UID:5ff56a76af1840e9a1e381508f81b40c@www.comune.parma.it
CATEGORIES:Home page
CREATED:20260225T131804Z
DESCRIPTION:Un’importante occasione di riflessione sul futuro della Pubb
 lica Amministrazione e sul ruolo delle nuove generazioni nei processi di i
 nnovazione istituzionale e servizio alla collettività.
LAST-MODIFIED:20260225T145314Z
URL:https://www.comune.parma.it/api/it/vivere-parma/eventi/prossima-la-pa-
 di-nuova-generazione
END:VEVENT
BEGIN:VTIMEZONE
TZID:Europe/Rome
X-LIC-LOCATION:Europe/Rome
BEGIN:STANDARD
DTSTART:20251026T020000
TZNAME:CET
TZOFFSETFROM:+0200
TZOFFSETTO:+0100
END:STANDARD
END:VTIMEZONE
END:VCALENDAR
