BEGIN:VCALENDAR
VERSION:2.0
PRODID:-//Plone.org//NONSGML plone.app.event//EN
X-WR-TIMEZONE:Europe/Rome
BEGIN:VEVENT
SUMMARY:Si riunisce il Consiglio Comunale
DTSTART;TZID=Europe/Rome:20241209T150000
DTEND;TZID=Europe/Rome:20241209T190000
DTSTAMP:20260421T223608Z
UID:a747112a666c4fc7b8bc6e21e974cf7c@www.comune.parma.it
CATEGORIES:Home page,Consiglio comunale
CREATED:20241203T153334Z
DESCRIPTION: In sessione straordinaria e seduta pubblica di 1° convocazio
 ne
LAST-MODIFIED:20241203T153650Z
URL:https://www.comune.parma.it/api/it/vivere-parma/eventi/si-riunisce-il-
 consiglio-comunale-09-12-2024
END:VEVENT
BEGIN:VTIMEZONE
TZID:Europe/Rome
X-LIC-LOCATION:Europe/Rome
BEGIN:STANDARD
DTSTART:20241027T020000
TZNAME:CET
TZOFFSETFROM:+0200
TZOFFSETTO:+0100
END:STANDARD
END:VTIMEZONE
END:VCALENDAR
