BEGIN:VCALENDAR
VERSION:2.0
PRODID:-//Plone.org//NONSGML plone.app.event//EN
X-WR-TIMEZONE:Europe/Rome
BEGIN:VEVENT
SUMMARY:Si riunisce il Consiglio Comunale
DTSTART;TZID=Europe/Rome:20230403T150000
DTEND;TZID=Europe/Rome:20230403T200000
DTSTAMP:20260419T152903Z
UID:761d9648a0784493a24e443e7c473f58@www.comune.parma.it
CATEGORIES:Consiglio comunale,Home page
CREATED:20230329T054907Z
DESCRIPTION:Lunedì 3 aprile\, alle 15
LAST-MODIFIED:20230718T084828Z
URL:https://www.comune.parma.it/api/it/vivere-parma/eventi/si-riunisce-il-
 consiglio-comunale-14
END:VEVENT
BEGIN:VTIMEZONE
TZID:Europe/Rome
X-LIC-LOCATION:Europe/Rome
BEGIN:DAYLIGHT
DTSTART:20230326T030000
TZNAME:CEST
TZOFFSETFROM:+0100
TZOFFSETTO:+0200
END:DAYLIGHT
END:VTIMEZONE
END:VCALENDAR
