BEGIN:VCALENDAR
VERSION:2.0
PRODID:-//Plone.org//NONSGML plone.app.event//EN
X-WR-TIMEZONE:Europe/Rome
BEGIN:VEVENT
SUMMARY:Si riunisce il Consiglio Comunale
DTSTART;TZID=Europe/Rome:20241216T150000
DTEND;TZID=Europe/Rome:20241216T180000
DTSTAMP:20260419T173009Z
UID:93e8a853f5a442d09dda66760ca86948@www.comune.parma.it
CATEGORIES:Home page,Consiglio comunale
CREATED:20241211T103326Z
DESCRIPTION:In sessione straordinaria e seduta pubblica di 1° convocazion
 e
LAST-MODIFIED:20241216T133045Z
URL:https://www.comune.parma.it/api/it/vivere-parma/eventi/si-riunisce-il-
 consiglio-comunale-16-12-2024
END:VEVENT
BEGIN:VTIMEZONE
TZID:Europe/Rome
X-LIC-LOCATION:Europe/Rome
BEGIN:STANDARD
DTSTART:20241027T020000
TZNAME:CET
TZOFFSETFROM:+0200
TZOFFSETTO:+0100
END:STANDARD
END:VTIMEZONE
END:VCALENDAR
