BEGIN:VCALENDAR
VERSION:2.0
PRODID:-//Plone.org//NONSGML plone.app.event//EN
X-WR-TIMEZONE:Europe/Rome
BEGIN:VEVENT
SUMMARY:Si riunisce il Consiglio Comunale
DTSTART;TZID=Europe/Rome:20230515T150000
DTEND;TZID=Europe/Rome:20230515T190000
DTSTAMP:20260425T125256Z
UID:a2383732bced417a8b45477944ee3f6c@www.comune.parma.it
CATEGORIES:Home page,Consiglio comunale
CREATED:20230510T064751Z
DESCRIPTION:In sessione straordinaria e seduta pubblica di prima convocazi
 one.
LAST-MODIFIED:20230718T084812Z
URL:https://www.comune.parma.it/api/it/vivere-parma/eventi/si-riunisce-il-
 consiglio-comunale-16/2023-05-15
END:VEVENT
BEGIN:VTIMEZONE
TZID:Europe/Rome
X-LIC-LOCATION:Europe/Rome
BEGIN:DAYLIGHT
DTSTART:20230326T030000
TZNAME:CEST
TZOFFSETFROM:+0100
TZOFFSETTO:+0200
END:DAYLIGHT
END:VTIMEZONE
END:VCALENDAR
