BEGIN:VCALENDAR
VERSION:2.0
PRODID:-//Plone.org//NONSGML plone.app.event//EN
X-WR-TIMEZONE:Europe/Rome
BEGIN:VEVENT
SUMMARY:Si riunisce il Consiglio Comunale
DTSTART;TZID=Europe/Rome:20251218T150000
DTEND;TZID=Europe/Rome:20251218T180000
DTSTAMP:20260419T190330Z
UID:9eaf2d0ab70446feadbf37123f27352f@www.comune.parma.it
CATEGORIES:Home page,Consiglio comunale
CREATED:20251212T140053Z
DESCRIPTION: In sessione straordinaria e seduta pubblica di 1° convocazio
 ne
LAST-MODIFIED:20251212T140345Z
URL:https://www.comune.parma.it/api/it/vivere-parma/eventi/si-riunisce-il-
 consiglio-comunale-18-12-2025
END:VEVENT
BEGIN:VTIMEZONE
TZID:Europe/Rome
X-LIC-LOCATION:Europe/Rome
BEGIN:STANDARD
DTSTART:20251026T020000
TZNAME:CET
TZOFFSETFROM:+0200
TZOFFSETTO:+0100
END:STANDARD
END:VTIMEZONE
END:VCALENDAR
