BEGIN:VCALENDAR
VERSION:2.0
PRODID:-//Plone.org//NONSGML plone.app.event//EN
X-WR-TIMEZONE:Europe/Rome
BEGIN:VEVENT
SUMMARY:Si riunisce il Consiglio Comunale
DTSTART;TZID=Europe/Rome:20251020T140000
DTEND;TZID=Europe/Rome:20251020T180000
DTSTAMP:20260419T200702Z
UID:506756ae9b6a49d488731efa33340b32@www.comune.parma.it
CATEGORIES:Home page,Consiglio comunale
CREATED:20251014T132952Z
DESCRIPTION:In sessione straordinaria e seduta pubblica di 1° convocazion
 e
LAST-MODIFIED:20251020T122156Z
URL:https://www.comune.parma.it/api/it/vivere-parma/eventi/si-riunisce-il-
 consiglio-comunale-20-10-2025/2025-10-20
END:VEVENT
BEGIN:VTIMEZONE
TZID:Europe/Rome
X-LIC-LOCATION:Europe/Rome
BEGIN:DAYLIGHT
DTSTART:20250330T030000
TZNAME:CEST
TZOFFSETFROM:+0100
TZOFFSETTO:+0200
END:DAYLIGHT
END:VTIMEZONE
END:VCALENDAR
