BEGIN:VCALENDAR
VERSION:2.0
PRODID:-//Plone.org//NONSGML plone.app.event//EN
X-WR-TIMEZONE:Europe/Rome
BEGIN:VEVENT
SUMMARY:Si riunisce il Consiglio Comunale
DTSTART;TZID=Europe/Rome:20241021T143000
DTEND;TZID=Europe/Rome:20241021T173000
DTSTAMP:20260420T162252Z
UID:195122d39e8449af82f9db34a4b2e960@www.comune.parma.it
CATEGORIES:Home page,Consiglio comunale
CREATED:20241014T092613Z
DESCRIPTION:In sessione straordinaria e seduta pubblica di 1° convocazion
 e 
LAST-MODIFIED:20241021T113452Z
URL:https://www.comune.parma.it/api/it/vivere-parma/eventi/si-riunisce-il-
 consiglio-comunale-21-10-2024/2024-10-21
END:VEVENT
BEGIN:VTIMEZONE
TZID:Europe/Rome
X-LIC-LOCATION:Europe/Rome
BEGIN:DAYLIGHT
DTSTART:20240331T030000
TZNAME:CEST
TZOFFSETFROM:+0100
TZOFFSETTO:+0200
END:DAYLIGHT
END:VTIMEZONE
END:VCALENDAR
