BEGIN:VCALENDAR
VERSION:2.0
PRODID:-//Plone.org//NONSGML plone.app.event//EN
X-WR-TIMEZONE:Europe/Rome
BEGIN:VEVENT
SUMMARY:Si riunisce il Consiglio Comunale
DTSTART;TZID=Europe/Rome:20231009T150000
DTEND;TZID=Europe/Rome:20231009T180000
DTSTAMP:20260420T212432Z
UID:e074d7afcc4a4b4d8c72950e9b6b99a8@www.comune.parma.it
CATEGORIES:Home page,Consiglio comunale
CREATED:20231004T093955Z
DESCRIPTION:In sessione straordinaria e seduta pubblica di prima convocazi
 one. 
LAST-MODIFIED:20231009T123153Z
URL:https://www.comune.parma.it/api/it/vivere-parma/eventi/si-riunisce-il-
 consiglio-comunale-21/2023-10-09
END:VEVENT
BEGIN:VTIMEZONE
TZID:Europe/Rome
X-LIC-LOCATION:Europe/Rome
BEGIN:DAYLIGHT
DTSTART:20230326T030000
TZNAME:CEST
TZOFFSETFROM:+0100
TZOFFSETTO:+0200
END:DAYLIGHT
END:VTIMEZONE
END:VCALENDAR
