BEGIN:VCALENDAR
VERSION:2.0
PRODID:-//Plone.org//NONSGML plone.app.event//EN
X-WR-TIMEZONE:Europe/Rome
BEGIN:VEVENT
SUMMARY:Si riunisce il Consiglio Comunale
DTSTART;TZID=Europe/Rome:20250224T150000
DTEND;TZID=Europe/Rome:20250224T180000
DTSTAMP:20260420T072010Z
UID:5b5141ecba8d470dbac712eb5705a489@www.comune.parma.it
CATEGORIES:Home page,Consiglio comunale
CREATED:20250220T112308Z
DESCRIPTION:In sessione straordinaria e seduta pubblica di 1° convocazion
 e
LAST-MODIFIED:20250220T112659Z
URL:https://www.comune.parma.it/api/it/vivere-parma/eventi/si-riunisce-il-
 consiglio-comunale-24-02-2025/2025-02-24
END:VEVENT
BEGIN:VTIMEZONE
TZID:Europe/Rome
X-LIC-LOCATION:Europe/Rome
BEGIN:STANDARD
DTSTART:20241027T020000
TZNAME:CET
TZOFFSETFROM:+0200
TZOFFSETTO:+0100
END:STANDARD
END:VTIMEZONE
END:VCALENDAR
