BEGIN:VCALENDAR
VERSION:2.0
PRODID:-//Plone.org//NONSGML plone.app.event//EN
X-WR-TIMEZONE:Europe/Rome
BEGIN:VEVENT
SUMMARY:Si riunisce il Consiglio Comunale
DTSTART;TZID=Europe/Rome:20251124T150000
DTEND;TZID=Europe/Rome:20251124T180000
DTSTAMP:20260422T053655Z
UID:0317dc4ce7bc453d97dea66290e8e9c3@www.comune.parma.it
CATEGORIES:Home page,Consiglio comunale
CREATED:20251119T084043Z
DESCRIPTION:In sessione straordinaria e seduta pubblica di 1° convocazion
 e
LAST-MODIFIED:20251119T084152Z
URL:https://www.comune.parma.it/api/it/vivere-parma/eventi/si-riunisce-il-
 consiglio-comunale-24-11-2025/2025-11-24
END:VEVENT
BEGIN:VTIMEZONE
TZID:Europe/Rome
X-LIC-LOCATION:Europe/Rome
BEGIN:STANDARD
DTSTART:20251026T020000
TZNAME:CET
TZOFFSETFROM:+0200
TZOFFSETTO:+0100
END:STANDARD
END:VTIMEZONE
END:VCALENDAR
