BEGIN:VCALENDAR
VERSION:2.0
PRODID:-//Plone.org//NONSGML plone.app.event//EN
X-WR-TIMEZONE:Europe/Rome
BEGIN:VEVENT
SUMMARY:Si riunisce il Consiglio Comunale
DTSTART;TZID=Europe/Rome:20240325T150000
DTEND;TZID=Europe/Rome:20240325T180000
DTSTAMP:20260420T130233Z
UID:9345cb8954694c19bc2b722da76be6f6@www.comune.parma.it
CATEGORIES:Home page,Consiglio comunale
CREATED:20240320T082437Z
DESCRIPTION:In sessione straordinaria e seduta pubblica\ndi 1° convocazio
 ne presso la Residenza Municipale
LAST-MODIFIED:20240320T083932Z
URL:https://www.comune.parma.it/api/it/vivere-parma/eventi/si-riunisce-il-
 consiglio-comunale-25-03-2024/2024-03-25
END:VEVENT
BEGIN:VTIMEZONE
TZID:Europe/Rome
X-LIC-LOCATION:Europe/Rome
BEGIN:STANDARD
DTSTART:20231029T020000
TZNAME:CET
TZOFFSETFROM:+0200
TZOFFSETTO:+0100
END:STANDARD
END:VTIMEZONE
END:VCALENDAR
