BEGIN:VCALENDAR
VERSION:2.0
PRODID:-//Plone.org//NONSGML plone.app.event//EN
X-WR-TIMEZONE:Europe/Rome
BEGIN:VEVENT
SUMMARY:Si riunisce il Consiglio Comunale
DTSTART;TZID=Europe/Rome:20260126T150000
DTEND;TZID=Europe/Rome:20260126T180000
DTSTAMP:20260420T052818Z
UID:b4ec0bf1854a4a5ba10fdfcbac20cab0@www.comune.parma.it
CATEGORIES:Home page,Consiglio comunale
CREATED:20260121T100028Z
DESCRIPTION:In sessione straordinaria e seduta pubblica di 1° convocazion
 e 
LAST-MODIFIED:20260121T100219Z
URL:https://www.comune.parma.it/api/it/vivere-parma/eventi/si-riunisce-il-
 consiglio-comunale-26-01-2026/2026-01-26
END:VEVENT
BEGIN:VTIMEZONE
TZID:Europe/Rome
X-LIC-LOCATION:Europe/Rome
BEGIN:STANDARD
DTSTART:20251026T020000
TZNAME:CET
TZOFFSETFROM:+0200
TZOFFSETTO:+0100
END:STANDARD
END:VTIMEZONE
END:VCALENDAR
