BEGIN:VCALENDAR
VERSION:2.0
PRODID:-//Plone.org//NONSGML plone.app.event//EN
X-WR-TIMEZONE:Europe/Rome
BEGIN:VEVENT
SUMMARY:Si riunisce il Consiglio Comunale
DTSTART;TZID=Europe/Rome:20251027T140000
DTEND;TZID=Europe/Rome:20251027T180000
DTSTAMP:20260420T091228Z
UID:ad6e928214244bdf8f50e4a7b4126560@www.comune.parma.it
CATEGORIES:Home page,Consiglio comunale
CREATED:20251022T084237Z
DESCRIPTION:In sessione straordinaria e seduta pubblica di 1° convocazion
 e
LAST-MODIFIED:20251027T131745Z
URL:https://www.comune.parma.it/api/it/vivere-parma/eventi/si-riunisce-il-
 consiglio-comunale-27-10-2025/2025-10-27
END:VEVENT
BEGIN:VTIMEZONE
TZID:Europe/Rome
X-LIC-LOCATION:Europe/Rome
BEGIN:STANDARD
DTSTART:20251026T020000
TZNAME:CET
TZOFFSETFROM:+0200
TZOFFSETTO:+0100
END:STANDARD
END:VTIMEZONE
END:VCALENDAR
