BEGIN:VCALENDAR
VERSION:2.0
PRODID:-//Plone.org//NONSGML plone.app.event//EN
X-WR-TIMEZONE:Europe/Rome
BEGIN:VEVENT
SUMMARY:Si riunisce il Consiglio Comunale
DTSTART;TZID=Europe/Rome:20231211T150000
DTEND;TZID=Europe/Rome:20231211T190000
DTSTAMP:20260420T011239Z
UID:62f787095ac44d87ab757de41d20c64a@www.comune.parma.it
CATEGORIES:Home page,Consiglio comunale
CREATED:20231211T081508Z
DESCRIPTION:In sessione straordinaria e seduta pubblica di prima convocazi
 one.
LAST-MODIFIED:20231211T082038Z
URL:https://www.comune.parma.it/api/it/vivere-parma/eventi/si-riunisce-il-
 consiglio-comunale-27/2023-12-11
END:VEVENT
BEGIN:VTIMEZONE
TZID:Europe/Rome
X-LIC-LOCATION:Europe/Rome
BEGIN:STANDARD
DTSTART:20231029T020000
TZNAME:CET
TZOFFSETFROM:+0200
TZOFFSETTO:+0100
END:STANDARD
END:VTIMEZONE
END:VCALENDAR
