BEGIN:VCALENDAR
VERSION:2.0
PRODID:-//Plone.org//NONSGML plone.app.event//EN
X-WR-TIMEZONE:Europe/Rome
BEGIN:VEVENT
SUMMARY:Si riunisce il Consiglio Comunale
DTSTART;TZID=Europe/Rome:20240129T150000
DTEND;TZID=Europe/Rome:20240129T180000
DTSTAMP:20260421T112114Z
UID:8d6232f2325a4638b0b7297da7817e93@www.comune.parma.it
CATEGORIES:Home page,Consiglio comunale
CREATED:20240124T071911Z
DESCRIPTION:Si comunica che il Consiglio Comunale è convocato in sessione
  straordinaria e seduta pubblica di 1° convocazione presso la Residenza M
 unicipale il giorno: Lunedì 29 Gennaio 2024 alle 15:00
LAST-MODIFIED:20240124T080030Z
URL:https://www.comune.parma.it/api/it/vivere-parma/eventi/si-riunisce-il-
 consiglio-comunale-29-01-2024/2024-01-29
END:VEVENT
BEGIN:VTIMEZONE
TZID:Europe/Rome
X-LIC-LOCATION:Europe/Rome
BEGIN:STANDARD
DTSTART:20231029T020000
TZNAME:CET
TZOFFSETFROM:+0200
TZOFFSETTO:+0100
END:STANDARD
END:VTIMEZONE
END:VCALENDAR
