BEGIN:VCALENDAR
VERSION:2.0
PRODID:-//Plone.org//NONSGML plone.app.event//EN
X-WR-TIMEZONE:Europe/Rome
BEGIN:VEVENT
SUMMARY:Rinviato il Consiglio Comunale
DTSTART;TZID=Europe/Rome:20221229T180000
DTSTAMP:20260419T173037Z
UID:0e0737b2a7e546d6a5719878d0472e33@www.comune.parma.it
CATEGORIES:Consiglio comunale,Home page
CREATED:20221222T163025Z
DESCRIPTION:Il Consiglio Comunale di giovedì 29 dicembre\, alle 18\, è s
 tato rinviato
LAST-MODIFIED:20230718T084857Z
URL:https://www.comune.parma.it/api/it/vivere-parma/eventi/si-riunisce-il-
 consiglio-comunale-7/2022-12-29
END:VEVENT
BEGIN:VTIMEZONE
TZID:Europe/Rome
X-LIC-LOCATION:Europe/Rome
BEGIN:STANDARD
DTSTART:20221030T020000
TZNAME:CET
TZOFFSETFROM:+0200
TZOFFSETTO:+0100
END:STANDARD
END:VTIMEZONE
END:VCALENDAR
