BEGIN:VCALENDAR
VERSION:2.0
PRODID:-//Plone.org//NONSGML plone.app.event//EN
X-WR-TIMEZONE:Europe/Rome
BEGIN:VEVENT
SUMMARY:Si riunisce il Consiglio Comunale
DTSTART;TZID=Europe/Rome:20220912T150000
DTEND;TZID=Europe/Rome:20220912T200000
DTSTAMP:20260419T220030Z
UID:beb42b0ec04748609d08bbb9133d19ff@www.comune.parma.it
CATEGORIES:Home page,Consiglio comunale
CREATED:20220907T061652Z
DESCRIPTION:Lunedì 12 settembre\, alle 15\, in sessione straordinaria e p
 ubblica di prima convocazione.
LAST-MODIFIED:20230718T084927Z
URL:https://www.comune.parma.it/api/it/vivere-parma/eventi/si-riunisce-il-
 consiglio-comunale/2022-09-12
END:VEVENT
BEGIN:VTIMEZONE
TZID:Europe/Rome
X-LIC-LOCATION:Europe/Rome
BEGIN:DAYLIGHT
DTSTART:20220327T030000
TZNAME:CEST
TZOFFSETFROM:+0100
TZOFFSETTO:+0200
END:DAYLIGHT
END:VTIMEZONE
END:VCALENDAR
