BEGIN:VCALENDAR
VERSION:2.0
PRODID:-//Plone.org//NONSGML plone.app.event//EN
X-WR-TIMEZONE:Europe/Rome
BEGIN:VEVENT
SUMMARY:Spazi D'Ozio 2025
DTSTART;TZID=Europe/Rome:20250624T210000
DTEND;TZID=Europe/Rome:20250718T230000
DTSTAMP:20260419T165757Z
UID:344d0d887ca94d9cab67763836f34115@www.comune.parma.it
CATEGORIES:Home page
CREATED:20250618T103213Z
DESCRIPTION:A partire da martedì 24 giugno e fino a venerdì 18 luglio pr
 esso il Teatro del Cerchio torna la rassegna estiva\, arrivata alla dodice
 sima edizione\, con un programma ricco ed eterogeneo\, adatto a tutti.
LAST-MODIFIED:20250618T124430Z
URL:https://www.comune.parma.it/api/it/vivere-parma/eventi/spazi-dozio-202
 5/2025-06-24
END:VEVENT
BEGIN:VTIMEZONE
TZID:Europe/Rome
X-LIC-LOCATION:Europe/Rome
BEGIN:DAYLIGHT
DTSTART:20250330T030000
TZNAME:CEST
TZOFFSETFROM:+0100
TZOFFSETTO:+0200
END:DAYLIGHT
END:VTIMEZONE
END:VCALENDAR
