BEGIN:VCALENDAR
VERSION:2.0
PRODID:-//Plone.org//NONSGML plone.app.event//EN
X-WR-TIMEZONE:Europe/Rome
BEGIN:VEVENT
SUMMARY:SPID/ CieID
DTSTART;TZID=Europe/Rome:20250131T103000
DTEND;TZID=Europe/Rome:20250131T120000
DTSTAMP:20260420T083213Z
UID:c6d3dfd05312400a857c4b8b57920049@www.comune.parma.it
CATEGORIES:Eventi - Facilitazione digitale
CREATED:20241224T113113Z
DESCRIPTION:Ore 10:30: Corso di formazione sull'utilizzo delle identità d
 igitali
LAST-MODIFIED:20241224T113921Z
URL:https://www.comune.parma.it/api/it/vivere-parma/eventi/spid-cieid-male
 rba
END:VEVENT
BEGIN:VTIMEZONE
TZID:Europe/Rome
X-LIC-LOCATION:Europe/Rome
BEGIN:STANDARD
DTSTART:20241027T020000
TZNAME:CET
TZOFFSETFROM:+0200
TZOFFSETTO:+0100
END:STANDARD
END:VTIMEZONE
END:VCALENDAR
