BEGIN:VCALENDAR
VERSION:2.0
PRODID:-//Plone.org//NONSGML plone.app.event//EN
X-WR-TIMEZONE:Europe/Rome
BEGIN:VEVENT
SUMMARY:SPID/ CieID
DTSTART;TZID=Europe/Rome:20250117T103000
DTEND;TZID=Europe/Rome:20250117T120000
DTSTAMP:20260419T154750Z
UID:86d2f06f83654e1faf987ebb623a560b@www.comune.parma.it
CATEGORIES:Eventi - Facilitazione digitale
CREATED:20241224T113113Z
DESCRIPTION:Ore 10:30: Corso di formazione sull'utilizzo delle identità d
 igitali
LAST-MODIFIED:20241224T113147Z
URL:https://www.comune.parma.it/api/it/vivere-parma/eventi/spid-cieid
END:VEVENT
BEGIN:VTIMEZONE
TZID:Europe/Rome
X-LIC-LOCATION:Europe/Rome
BEGIN:STANDARD
DTSTART:20241027T020000
TZNAME:CET
TZOFFSETFROM:+0200
TZOFFSETTO:+0100
END:STANDARD
END:VTIMEZONE
END:VCALENDAR
