BEGIN:VCALENDAR
VERSION:2.0
PRODID:-//Plone.org//NONSGML plone.app.event//EN
X-WR-TIMEZONE:Europe/Rome
BEGIN:VEVENT
SUMMARY:Sul Naviglio... Inverno 2026
DTSTART;TZID=Europe/Rome:20260124T164500
DTEND;TZID=Europe/Rome:20260208T191500
DTSTAMP:20260419T183419Z
UID:86157926d4464e6480fc2c5372310ab8@www.comune.parma.it
CATEGORIES:Home page
CREATED:20260119T140956Z
DESCRIPTION:Tre weekend di teatro\, musica e poesia a Palazzo del Governat
 ore nella nuova edizione invernale della rassegna. Si parte sabato 24 genn
 aio alle ore 18 con lo spettacolo “I giocatori – dialoghi in tre atti 
 con tre giocate”.
LAST-MODIFIED:20260120T110352Z
URL:https://www.comune.parma.it/api/it/vivere-parma/eventi/sul-naviglio-in
 verno-2026
END:VEVENT
BEGIN:VTIMEZONE
TZID:Europe/Rome
X-LIC-LOCATION:Europe/Rome
BEGIN:STANDARD
DTSTART:20251026T020000
TZNAME:CET
TZOFFSETFROM:+0200
TZOFFSETTO:+0100
END:STANDARD
END:VTIMEZONE
END:VCALENDAR
