BEGIN:VCALENDAR
VERSION:2.0
PRODID:-//Plone.org//NONSGML plone.app.event//EN
X-WR-TIMEZONE:Europe/Rome
BEGIN:VEVENT
SUMMARY:Tōrō Nagashi 2025
DTSTART;TZID=Europe/Rome:20250806T210000
DTEND;TZID=Europe/Rome:20250806T233000
DTSTAMP:20260421T121445Z
UID:6d6db573a82e40b8b265833e9570a879@www.comune.parma.it
CATEGORIES:Home page
CREATED:20250804T144044Z
DESCRIPTION:Mercoledì 6 agosto alle 21:00 in Piazzale della Pace la Bibli
 oteca Internazionale Ilaria Alpi del Comune di Parma organizza\, in collab
 orazione con la Comunità Giapponese di Parma\, la sedicesima edizione del
  Tōrō Nagashi.
LAST-MODIFIED:20250804T144341Z
URL:https://www.comune.parma.it/api/it/vivere-parma/eventi/toro-nagashi-20
 25/2025-08-06
END:VEVENT
BEGIN:VTIMEZONE
TZID:Europe/Rome
X-LIC-LOCATION:Europe/Rome
BEGIN:DAYLIGHT
DTSTART:20250330T030000
TZNAME:CEST
TZOFFSETFROM:+0100
TZOFFSETTO:+0200
END:DAYLIGHT
END:VTIMEZONE
END:VCALENDAR
