BEGIN:VCALENDAR
VERSION:2.0
PRODID:-//Plone.org//NONSGML plone.app.event//EN
X-WR-TIMEZONE:Europe/Rome
BEGIN:VEVENT
SUMMARY:Tōrō Nagashi
DTSTART;TZID=Europe/Rome:20240806T210000
DTEND;TZID=Europe/Rome:20240806T230000
DTSTAMP:20260419T172520Z
UID:3aa8de1ffd274fc18546009197158a0a@www.comune.parma.it
CATEGORIES:Home page
CREATED:20240730T120920Z
DESCRIPTION:Quindicesima edizione della cerimonia delle lanterne sull’ac
 qua per commemorare le vittime delle bombe atomiche su Hiroshima e Nagasak
 i del 1945.
LAST-MODIFIED:20240802T082549Z
URL:https://www.comune.parma.it/api/it/vivere-parma/eventi/toro-nagashi/20
 24-08-06
END:VEVENT
BEGIN:VTIMEZONE
TZID:Europe/Rome
X-LIC-LOCATION:Europe/Rome
BEGIN:DAYLIGHT
DTSTART:20240331T030000
TZNAME:CEST
TZOFFSETFROM:+0100
TZOFFSETTO:+0200
END:DAYLIGHT
END:VTIMEZONE
END:VCALENDAR
