BEGIN:VCALENDAR
VERSION:2.0
PRODID:-//Plone.org//NONSGML plone.app.event//EN
X-WR-TIMEZONE:Europe/Rome
BEGIN:VEVENT
SUMMARY:Utilizzare Smartphone e Tablet Over 35 (base)
DTSTART;TZID=Europe/Rome:20250219T153000
DTEND;TZID=Europe/Rome:20250219T173000
DTSTAMP:20260420T010555Z
UID:7b8c32531a034a61a530ca8470c596c7@www.comune.parma.it
CATEGORIES:Eventi - Facilitazione digitale
CREATED:20250120T083600Z
DESCRIPTION:Ore 15.30: Il corso di formazione ha l’obiettivo di fornire 
 competenze di base per l’uso di smartphone e tablet.
LAST-MODIFIED:20250120T131548Z
URL:https://www.comune.parma.it/api/it/vivere-parma/eventi/utilizzare-smar
 tphone-e-tablet-over-35-base-2
END:VEVENT
BEGIN:VTIMEZONE
TZID:Europe/Rome
X-LIC-LOCATION:Europe/Rome
BEGIN:STANDARD
DTSTART:20241027T020000
TZNAME:CET
TZOFFSETFROM:+0200
TZOFFSETTO:+0100
END:STANDARD
END:VTIMEZONE
END:VCALENDAR
