BEGIN:VCALENDAR
VERSION:2.0
PRODID:-//Plone.org//NONSGML plone.app.event//EN
X-WR-TIMEZONE:Europe/Rome
BEGIN:VEVENT
SUMMARY:Vermin di Sébastien Vanicek
DTSTART;TZID=Europe/Rome:20240821T210000
DTEND;TZID=Europe/Rome:20240821T230000
DTSTAMP:20260421T132704Z
UID:7f50094f58d244f7a3d33e16b8fef012@www.comune.parma.it
CATEGORIES:Home page
CREATED:20240729T080009Z
DESCRIPTION:Proiezione nell'ambito della rassegna "I Giardini della Paura"
 .
LAST-MODIFIED:20240729T080918Z
URL:https://www.comune.parma.it/api/it/vivere-parma/eventi/vermin/2024-08-
 21
END:VEVENT
BEGIN:VTIMEZONE
TZID:Europe/Rome
X-LIC-LOCATION:Europe/Rome
BEGIN:DAYLIGHT
DTSTART:20240331T030000
TZNAME:CEST
TZOFFSETFROM:+0100
TZOFFSETTO:+0200
END:DAYLIGHT
END:VTIMEZONE
END:VCALENDAR
