BEGIN:VCALENDAR
VERSION:2.0
PRODID:-//Plone.org//NONSGML plone.app.event//EN
X-WR-TIMEZONE:Europe/Rome
BEGIN:VEVENT
SUMMARY:Visite a Il Punto - Hub creativo
DTSTART;TZID=Europe/Rome:20241207T090000
DTEND;TZID=Europe/Rome:20241209T190000
DTSTAMP:20260421T154035Z
UID:e4d776e884dc4fe39ce2997fda1760c7@www.comune.parma.it
CATEGORIES:Open Days
CREATED:20241202T130901Z
DESCRIPTION:Durante le giornate sarà possibile esplorare gli spazi de Il 
 Punto\, hub creativo dedicato ai giovani under 35\, con finalità in­form
 ative\, aggregative e culturali\, al­lestiti per l’occasione con esposi
 zioni di giovani artisti.
LAST-MODIFIED:20241202T130916Z
URL:https://www.comune.parma.it/api/it/vivere-parma/eventi/visite-a-il-pun
 to-hub-creativo/2024-12-07
END:VEVENT
BEGIN:VTIMEZONE
TZID:Europe/Rome
X-LIC-LOCATION:Europe/Rome
BEGIN:STANDARD
DTSTART:20241027T020000
TZNAME:CET
TZOFFSETFROM:+0200
TZOFFSETTO:+0100
END:STANDARD
END:VTIMEZONE
END:VCALENDAR
